BEGIN:VCALENDAR
VERSION:2.0
PRODID:< http://www.open2c.de/ >
METHOD:PUBLISH
X-PUBLISHED-TTL:PT12H
BEGIN:VEVENT
CREATED:20200114T081657Z
LAST-MODIFIED:20260302T080904Z
GEO:0.000000,0.000000
ORGANIZER;CN="VdK Wolnzach"DTSTAMP:20260423T085451Z
DTSTART:20261217T133000Z
DTEND:20261217T133000Z
CATEGORIES:Vereine
SUMMARY;CHARSET=UTF-8:VdK Wolnzach\\, Fahrt zum Christkindlmarkt nach Landshut
DESCRIPTION;CHARSET=UTF-8:Organisator   VdK Wolnzach
LOCATION;CHARSET=UTF-8:nach Landshut
UID:7de2f5f1c70d3e3da8cd7f65cd19f03a@bc2113cb4af2c3a43fff9192b42c74c9
END:VEVENT
END:VCALENDAR