BEGIN:VCALENDAR
VERSION:2.0
PRODID:< http://www.open2c.de/ >
METHOD:PUBLISH
X-PUBLISHED-TTL:PT12H
BEGIN:VEVENT
CREATED:20190312T151956Z
LAST-MODIFIED:20250724T100147Z
GEO:0.000000,0.000000
ORGANIZER;CN="Gewerbeverband und Markt Wolnzach"DTSTAMP:20260422T084429Z
DTSTART:20260516T220000Z
DTEND:20260516T220000Z
CATEGORIES:Märkte
SUMMARY;CHARSET=UTF-8:Auffahrtsdult und verkaufsoffener Sonntag
DESCRIPTION;CHARSET=UTF-8:Dultstände ab 10.00 Uhr 
 Verkaufsoffener Sonntag von 13.00 bis 17.00 Uhr
  
 Organisator   Gewerbeverband und Markt Wolnzach
LOCATION;CHARSET=UTF-8:Marktzentrum Wolnzach
UID:beb91a6661b4c78c3a8d53b6634ccb6a@bc2113cb4af2c3a43fff9192b42c74c9
END:VEVENT
END:VCALENDAR