BEGIN:VCALENDAR
VERSION:2.0
PRODID:< http://www.open2c.de/ >
METHOD:PUBLISH
X-PUBLISHED-TTL:PT12H
BEGIN:VEVENT
CREATED:20181127T082829Z
LAST-MODIFIED:20260116T083339Z
GEO:0.000000,0.000000
ORGANIZER;CN="Gewerbeverband Wolnzach"DTSTAMP:20260421T094937Z
DTSTART:20261129T160000Z
DTEND:20261129T160000Z
CATEGORIES:Specials
SUMMARY;CHARSET=UTF-8:Illumination am Rathausplatz
DESCRIPTION;CHARSET=UTF-8:Organisator   Gewerbeverband Wolnzach
LOCATION;CHARSET=UTF-8:Rathausplatz
UID:a005c793adc832b70813caa98785b45d@bc2113cb4af2c3a43fff9192b42c74c9
END:VEVENT
END:VCALENDAR