BEGIN:VCALENDAR
VERSION:2.0
PRODID:< http://www.open2c.de/ >
METHOD:PUBLISH
X-PUBLISHED-TTL:PT12H
BEGIN:VEVENT
CREATED:20181008T075049Z
LAST-MODIFIED:20251010T081752Z
GEO:0.000000,0.000000
ORGANIZER;CN="Gewerbeverband Wolnzach":MAILTO:Marianne Hammerschmid
DTSTAMP:20260419T190922Z
DTSTART:20260704T130000Z
DTEND:20260704T160000Z
CATEGORIES:Specials
SUMMARY;CHARSET=UTF-8:Gewerbeverband Wolnzach\\":\\" Kindertag
DESCRIPTION;CHARSET=UTF-8:Organisator   Gewerbeverband Wolnzach
 Kontakt   Marianne Hammerschmid
LOCATION;CHARSET=UTF-8:Marktzentrum
UID:3311e66b48b2537ba5427eb8de7cd882@bc2113cb4af2c3a43fff9192b42c74c9
END:VEVENT
END:VCALENDAR