BEGIN:VCALENDAR
VERSION:2.0
PRODID:< http://www.open2c.de/ >
METHOD:PUBLISH
X-PUBLISHED-TTL:PT12H
BEGIN:VEVENT
CREATED:20180612T104504Z
LAST-MODIFIED:20260108T084420Z
GEO:0.000000,0.000000
ORGANIZER;CN="Stock-Club Wolnzach":MAILTO:info@sc-Wolnzach.de
DTSTAMP:20260423T085543Z
DTSTART:20260801T110000Z
DTEND:20260801T110000Z
CATEGORIES:Vereine
SUMMARY;CHARSET=UTF-8:Stockclub Wolnzach\\, Marktmeisterschaft
DESCRIPTION;CHARSET=UTF-8:Organisator   Stock-Club Wolnzach
 Kontakt   info@sc-Wolnzach.de
LOCATION;CHARSET=UTF-8:Vereinsanlage\\, Anton-Dost-Str. 9\\, Wolnzach
UID:fbcf194d554639765db736fd4269f4a0@bc2113cb4af2c3a43fff9192b42c74c9
END:VEVENT
BEGIN:VEVENT
CREATED:20190919T095318Z
LAST-MODIFIED:20260112T122834Z
GEO:0.000000,0.000000
ORGANIZER;CN="Markt Wolnzach"DTSTAMP:20260423T085543Z
DTSTART:20260806T220000Z
DTEND:20260816T220000Z
CATEGORIES:Volksfeste
SUMMARY;CHARSET=UTF-8:76. Hallertauer Volksfest
DESCRIPTION;CHARSET=UTF-8:Organisator   Markt Wolnzach
LOCATION;CHARSET=UTF-8:Volksfestplatz Wolnzach
UID:afca16a06a57127a7e28118d9088d41c@bc2113cb4af2c3a43fff9192b42c74c9
END:VEVENT
BEGIN:VEVENT
CREATED:20060316T094429Z
LAST-MODIFIED:20260108T084147Z
GEO:0.000000,0.000000
ORGANIZER;CN="Stock-Club Wolnzach":MAILTO:info@sc-Wolnzach.de
DTSTAMP:20260423T085543Z
DTSTART:20260816T060000Z
DTEND:20260816T060000Z
CATEGORIES:Vereine
SUMMARY;CHARSET=UTF-8:Stockclub Wolnzach\\, Volksfestturnier
DESCRIPTION;CHARSET=UTF-8:Organisator   Stock-Club Wolnzach
 Kontakt   info@sc-Wolnzach.de
LOCATION;CHARSET=UTF-8:Vereinsanlage\\, Anton-Dost-Str. 9\\, Wolnzach
UID:7a8094f65b42a5aeb475c9aa423342b3@bc2113cb4af2c3a43fff9192b42c74c9
END:VEVENT
BEGIN:VEVENT
CREATED:20251010T082052Z
LAST-MODIFIED:20251010T082230Z
GEO:0.000000,0.000000
ORGANIZER;CN="Burschen- & Madlverein Königsfeld"DTSTAMP:20260423T085543Z
DTSTART:20260822T160000Z
DTEND:20260822T200000Z
CATEGORIES:Vereine
SUMMARY;CHARSET=UTF-8:Burschen- & Madlverein Königsfeld\\, Bier-Fest
DESCRIPTION;CHARSET=UTF-8:Organisator   Burschen- & Madlverein Königsfeld
LOCATION;CHARSET=UTF-8:Königsfeld Wandererhütte/Feuerwehr (je nach Wetterlage)
UID:ddae7facc055d92c53e7760955b016cd@bc2113cb4af2c3a43fff9192b42c74c9
END:VEVENT
END:VCALENDAR