BEGIN:VCALENDAR
VERSION:2.0
PRODID:< http://www.open2c.de/ >
METHOD:PUBLISH
X-PUBLISHED-TTL:PT12H
BEGIN:VEVENT
CREATED:20180110T103246Z
LAST-MODIFIED:20251016T072129Z
GEO:0.000000,0.000000
ORGANIZER;CN="Liederkranz Wolnzach und Markt Wiolnzach"DTSTAMP:20260420T124133Z
DTSTART:20261114T230000Z
DTEND:20261114T230000Z
CATEGORIES:Vereine
SUMMARY;CHARSET=UTF-8:Liederkranz Wolnzach\\, Gedenken zum Volkstrauertag
DESCRIPTION;CHARSET=UTF-8:Organisator   Liederkranz Wolnzach und Markt Wiolnzach
LOCATION;CHARSET=UTF-8:Kriegerdenkmal
UID:7bbc0c6132da53590ff373fce4411279@bc2113cb4af2c3a43fff9192b42c74c9
END:VEVENT
END:VCALENDAR