BEGIN:VCALENDAR
VERSION:2.0
PRODID:< http://www.open2c.de/ >
METHOD:PUBLISH
X-PUBLISHED-TTL:PT12H
BEGIN:VEVENT
CREATED:20180103T080927Z
LAST-MODIFIED:20251010T075348Z
GEO:0.000000,0.000000
ORGANIZER;CN="SV Geroldshausen"DTSTAMP:20260419T191609Z
DTSTART:20260524T080000Z
DTEND:20260524T200000Z
CATEGORIES:Vereine
SUMMARY;CHARSET=UTF-8:SV Geroldshausen\\, Gartenfest
DESCRIPTION;CHARSET=UTF-8:Organisator   SV Geroldshausen
LOCATION;CHARSET=UTF-8:Sportpark 1 Geroldshausen
UID:09e6d6affc7e1a0a35b9b79fbc7dbaa7@bc2113cb4af2c3a43fff9192b42c74c9
END:VEVENT
END:VCALENDAR