BEGIN:VCALENDAR
VERSION:2.0
PRODID:< http://www.open2c.de/ >
METHOD:PUBLISH
X-PUBLISHED-TTL:PT12H
BEGIN:VEVENT
CREATED:20151123T150548Z
LAST-MODIFIED:20251016T071908Z
GEO:0.000000,0.000000
ORGANIZER;CN="Liederkranz Wolnzach"DTSTAMP:20260419T213131Z
DTSTART:20260705T150000Z
DTEND:20260705T170000Z
CATEGORIES:Konzerte
SUMMARY;CHARSET=UTF-8:Liederkranz Wolnzach\\, Sommerkonzert
DESCRIPTION;CHARSET=UTF-8:Organisator   Liederkranz Wolnzach
LOCATION;CHARSET=UTF-8:Hallertau Gymnasium Wolnzach
UID:55403e855f5002fad2ffeb2ef9859f10@bc2113cb4af2c3a43fff9192b42c74c9
END:VEVENT
END:VCALENDAR