BEGIN:VCALENDAR
VERSION:2.0
PRODID:< http://www.open2c.de/ >
METHOD:PUBLISH
X-PUBLISHED-TTL:PT12H
BEGIN:VEVENT
CREATED:20151119T161649Z
LAST-MODIFIED:20251210T152224Z
GEO:0.000000,0.000000
ORGANIZER;CN="KDFB Gebrontshausen"DTSTAMP:20260421T081839Z
DTSTART:20261203T170000Z
DTEND:20261203T170000Z
CATEGORIES:Vereine
SUMMARY;CHARSET=UTF-8:KDFB Gebrontshausen\\, Adventfeier
DESCRIPTION;CHARSET=UTF-8:Andacht in Larsbach\\, anschl. Adventfeier im Gasthaus Waldinger in Larsbach
 Organisator   KDFB Gebrontshausen
LOCATION;CHARSET=UTF-8:Larsbach
UID:cb4141a92b3cf924cfc238e7698caf99@bc2113cb4af2c3a43fff9192b42c74c9
END:VEVENT
END:VCALENDAR