BEGIN:VCALENDAR
VERSION:2.0
PRODID:< http://www.open2c.de/ >
METHOD:PUBLISH
X-PUBLISHED-TTL:PT12H
BEGIN:VEVENT
CREATED:20051215T123824Z
LAST-MODIFIED:20251016T071810Z
GEO:0.000000,0.000000
ORGANIZER;CN="Liederkranz Wolnzach"DTSTAMP:20260420T121336Z
DTSTART:20261224T160000Z
DTEND:20261224T163000Z
CATEGORIES:Kirche
SUMMARY;CHARSET=UTF-8:Liederkranz Wolnzach\\, Weihnachtssingen auf dem Wolnzacher Friedhof
DESCRIPTION;CHARSET=UTF-8:Organisator   Liederkranz Wolnzach
LOCATION;CHARSET=UTF-8:Friedhof Wolnzach
UID:d0161e5d6372af58ed839265dc84ea53@bc2113cb4af2c3a43fff9192b42c74c9
END:VEVENT
END:VCALENDAR