BEGIN:VCALENDAR
VERSION:2.0
PRODID:< http://www.open2c.de/ >
METHOD:PUBLISH
X-PUBLISHED-TTL:PT12H
BEGIN:VEVENT
CREATED:20120417T131001Z
LAST-MODIFIED:20251127T140828Z
GEO:0.000000,0.000000
ORGANIZER;CN="s'Theaterbrettl"DTSTAMP:20260419T185427Z
DTSTART:20260620T173000Z
DTEND:20260620T213000Z
CATEGORIES:Specials
SUMMARY;CHARSET=UTF-8:s'Theaterbrettl\\, Volkstanz
DESCRIPTION;CHARSET=UTF-8:Organisator   s'Theaterbrettl
LOCATION;CHARSET=UTF-8:Volksfesthalle (Hopfenstraße)
UID:ab901142dfba91473c32b67341ad3782@bc2113cb4af2c3a43fff9192b42c74c9
END:VEVENT
END:VCALENDAR