BEGIN:VCALENDAR
VERSION:2.0
PRODID:< http://www.open2c.de/ >
METHOD:PUBLISH
X-PUBLISHED-TTL:PT12H
BEGIN:VEVENT
CREATED:20120131T095543Z
LAST-MODIFIED:20251117T084243Z
GEO:0.000000,0.000000
ORGANIZER;CN="Kolpingsfamilie Gosseltshausen"DTSTAMP:20260422T084516Z
DTSTART:20260525T220000Z
DTEND:20260529T220000Z
CATEGORIES:Kinder
SUMMARY;CHARSET=UTF-8:Kolpingsfamilie Gosseltshausen\\, Pfingstzeltlager der Kolpingjugend
DESCRIPTION;CHARSET=UTF-8:Organisator   Kolpingsfamilie Gosseltshausen
LOCATION;CHARSET=UTF-8:Zeltlager in Ingolstadt
UID:0fbcbcbabb2d3082dc725469e0837260@bc2113cb4af2c3a43fff9192b42c74c9
END:VEVENT
END:VCALENDAR