BEGIN:VCALENDAR
VERSION:2.0
PRODID:< http://www.open2c.de/ >
METHOD:PUBLISH
X-PUBLISHED-TTL:PT12H
BEGIN:VEVENT
CREATED:20110517T062232Z
LAST-MODIFIED:20251010T075446Z
GEO:0.000000,0.000000
ORGANIZER;CN="SV Geroldshausen"DTSTAMP:20260421T081956Z
DTSTART:20261212T173000Z
DTEND:20261212T173000Z
CATEGORIES:Vereine
SUMMARY;CHARSET=UTF-8:SV Geroldshausen\\, Weihnachtsfeier
DESCRIPTION;CHARSET=UTF-8:Organisator   SV Geroldshausen
LOCATION;CHARSET=UTF-8:Sportpark 1\\, Geroldshausen
UID:09f2ff00ada172ffb3f6542e7336cce6@bc2113cb4af2c3a43fff9192b42c74c9
END:VEVENT
END:VCALENDAR