BEGIN:VCALENDAR
VERSION:2.0
PRODID:< http://www.open2c.de/ >
METHOD:PUBLISH
X-PUBLISHED-TTL:PT12H
BEGIN:VEVENT
CREATED:20251016T071946Z
LAST-MODIFIED:20251030T145842Z
GEO:0.000000,0.000000
ORGANIZER;CN="Liederkranz Wolnzach"DTSTAMP:20260419T213301Z
DTSTART:20261213T160000Z
DTEND:20261213T160000Z
CATEGORIES:Konzerte
SUMMARY;CHARSET=UTF-8:Liederkranz Wolnzach\\, Adventssingen (verschiedene Gesangs- und Instrumentalgruppen)
DESCRIPTION;CHARSET=UTF-8:Organisator   Liederkranz Wolnzach
LOCATION;CHARSET=UTF-8:Kath. Pfarrkirche St. Laurentius Wolnzach
UID:8fe5107df42b3f80f84d9be52aed7698@bc2113cb4af2c3a43fff9192b42c74c9
END:VEVENT
END:VCALENDAR