BEGIN:VCALENDAR
VERSION:2.0
PRODID:< http://www.open2c.de/ >
METHOD:PUBLISH
X-PUBLISHED-TTL:PT12H
BEGIN:VEVENT
CREATED:20230330T142818Z
LAST-MODIFIED:20260423T072744Z
GEO:0.000000,0.000000
ORGANIZER;CN="Kath. Frauenbund Wolnzach"DTSTAMP:20260423T120050Z
DTSTART:20260504T163000Z
DTEND:20260504T163000Z
CATEGORIES:Vereine
SUMMARY;CHARSET=UTF-8:KDFB Wolnzach\\":\\" Maiandacht
DESCRIPTION;CHARSET=UTF-8:Mainandacht im Freien\\, mit kleinem Umtrunk
 Bei Regen feiern wir die Maiandacht in der Pfarrkirche.
 Organisator   Kath. Frauenbund Wolnzach
LOCATION;CHARSET=UTF-8:Hammerschmidkapelle an der Jägerstraße
UID:7166a54135cd6d8e3b3828b7d3d582b7@bc2113cb4af2c3a43fff9192b42c74c9
END:VEVENT
END:VCALENDAR