BEGIN:VCALENDAR
VERSION:2.0
PRODID:< http://www.open2c.de/ >
METHOD:PUBLISH
X-PUBLISHED-TTL:PT12H
BEGIN:VEVENT
CREATED:20230124T072347Z
LAST-MODIFIED:20260302T075352Z
GEO:0.000000,0.000000
ORGANIZER;CN="VdK Wolnzach"DTSTAMP:20260420T040835Z
DTSTART:20260423T093000Z
DTEND:20260423T093000Z
CATEGORIES:Vereine
SUMMARY;CHARSET=UTF-8:VdK Wolnzach\\, Halbtagesausflug nach Bissingen und Harburg
DESCRIPTION;CHARSET=UTF-8:Halbtagesausflug nach Bissingen und Harburg mit Besichtigung der Molkerei Gropper.
 Harburg liegt an der Romantischen Straße im Tal der Wörnitz.
 Organisator   VdK Wolnzach
LOCATION;CHARSET=UTF-8:Bissingen und Harburg
UID:b4a21deae758ec30d0fc5e20d6a89ffd@bc2113cb4af2c3a43fff9192b42c74c9
END:VEVENT
BEGIN:VEVENT
CREATED:20070212T162136Z
LAST-MODIFIED:20251218T155119Z
GEO:0.000000,0.000000
ORGANIZER;CN="Kath. Frauenbund Wolnzach"DTSTAMP:20260420T040835Z
DTSTART:20260429T110000Z
DTEND:20260429T150000Z
CATEGORIES:Senioren
SUMMARY;CHARSET=UTF-8:KDFB Wolnzach\\, Seniorenausflug nach Rain am Lech
DESCRIPTION;CHARSET=UTF-8:Organisator   Kath. Frauenbund Wolnzach
LOCATION;CHARSET=UTF-8:Abfahrt am Deutschen Hopfenmuseum
UID:eff7cda2c537cda87554dbd0afbef75d@bc2113cb4af2c3a43fff9192b42c74c9
END:VEVENT
BEGIN:VEVENT
CREATED:20230424T074204Z
LAST-MODIFIED:20260401T124849Z
GEO:0.000000,0.000000
ORGANIZER;CN="Feuerwehr & Dorfgemeinschaft Eschelbach"DTSTAMP:20260420T040835Z
DTSTART:20260430T150000Z
DTEND:20260430T150000Z
CATEGORIES:Vereine
SUMMARY;CHARSET=UTF-8:Feuerwehr & Dorfgemeinschaft Eschelbach\\":\\" Maifeier
DESCRIPTION;CHARSET=UTF-8:Maifeier am 30. April ab 17 Uhr
 Organisator   Feuerwehr & Dorfgemeinschaft Eschelbach
LOCATION;CHARSET=UTF-8:Dorfplatz Eschelbach
UID:85b7cdc3d91e65dac2e01e7d01207eb4@bc2113cb4af2c3a43fff9192b42c74c9
END:VEVENT
END:VCALENDAR