BEGIN:VCALENDAR
VERSION:2.0
PRODID:< http://www.open2c.de/ >
METHOD:PUBLISH
X-PUBLISHED-TTL:PT12H
BEGIN:VEVENT
CREATED:20221025T113328Z
LAST-MODIFIED:20251010T075228Z
GEO:0.000000,0.000000
ORGANIZER;CN="SV Geroldshausen"DTSTAMP:20260419T231117Z
DTSTART:20260523T070000Z
DTEND:20260523T130000Z
CATEGORIES:Vereine
SUMMARY;CHARSET=UTF-8:SV Geroldshausen\\, Fußball Jugendturnier
DESCRIPTION;CHARSET=UTF-8:Organisator   SV Geroldshausen
LOCATION;CHARSET=UTF-8:Sportpark 1 Geroldshausen
UID:0ee1f0862080414c30575138924152ae@bc2113cb4af2c3a43fff9192b42c74c9
END:VEVENT
END:VCALENDAR