BEGIN:VCALENDAR
VERSION:2.0
PRODID:< http://www.open2c.de/ >
METHOD:PUBLISH
X-PUBLISHED-TTL:PT12H
BEGIN:VEVENT
CREATED:20220414T092216Z
LAST-MODIFIED:20260401T125944Z
GEO:0.000000,0.000000
ORGANIZER;CN="Burschen- & Madlverein Königsfeld"DTSTAMP:20260422T085919Z
DTSTART:20260501T080000Z
DTEND:20260501T080000Z
CATEGORIES:Vereine
SUMMARY;CHARSET=UTF-8:Burschen- & Madlverein Königsfeld\\, Maibaumaufstellen
DESCRIPTION;CHARSET=UTF-8:09\\":\\"30 Uhr Frühschoppen mit Würstl
 10\\":\\"00 Uhr Beginn Maibaumaufstellen
 14\\":\\"00 Uhr Kaffee und Kjchen\\, Schnittchen
 17\\":\\"00 Uhr Abendessen
 Organisator   Burschen- & Madlverein Königsfeld
LOCATION;CHARSET=UTF-8:Feuerwehr Königsfeld
UID:7445bbf019905acdc27bec5b79dfeaf8@bc2113cb4af2c3a43fff9192b42c74c9
END:VEVENT
END:VCALENDAR