BEGIN:VCALENDAR
VERSION:2.0
PRODID:< http://www.open2c.de/ >
METHOD:PUBLISH
X-PUBLISHED-TTL:PT12H
BEGIN:VEVENT
CREATED:20211012T073211Z
LAST-MODIFIED:20260126T084357Z
GEO:0.000000,0.000000
ORGANIZER;CN="Kunst- und Hobbykreis Wolnzach e. V.":MAILTO:Gerti Wetterich
DTSTAMP:20260422T123635Z
DTSTART:20261127T230000Z
DTEND:20261128T230000Z
CATEGORIES:Ausstellungen
SUMMARY;CHARSET=UTF-8:Kunst- und Hobbykreis Wolnzach e.V.\\":\\" Adventsausstellung
DESCRIPTION;CHARSET=UTF-8:Ausstellungszeiten voraussichtlich\\":\\"
 Samstag 15.00 bis 18.00 Uhr
 Sonntag 12.00 bis 18.00 Uhr
 Organisator   Kunst- und Hobbykreis Wolnzach e. V.
 Kontakt   Gerti Wetterich
LOCATION;CHARSET=UTF-8:Rathauskeller Wolnzach
UID:4b3b1de7e33cf23a444eecc795c3a0ae@bc2113cb4af2c3a43fff9192b42c74c9
END:VEVENT
END:VCALENDAR