BEGIN:VCALENDAR
VERSION:2.0
PRODID:< http://www.open2c.de/ >
METHOD:PUBLISH
X-PUBLISHED-TTL:PT12H
BEGIN:VEVENT
CREATED:20210916T075236Z
LAST-MODIFIED:20260421T093128Z
GEO:0.000000,0.000000
ORGANIZER;CN="SV Niederlauterbach"DTSTAMP:20260421T124704Z
DTSTART:20260725T170000Z
DTEND:20260725T170000Z
CATEGORIES:Specials
SUMMARY;CHARSET=UTF-8:SV Niederlauterbach\\, Comedy & Kabarett \\"Fonse Doppelhammer\\" - das neue Programm
DESCRIPTION;CHARSET=UTF-8:Einlass ab 18 Uhr\\,  Beginn 19 Uhr
  
 Fonse Doppelhammer....zum Jammern glangt´s no ned. Am 25. Juli am Sportplatz in Niederlauterbach\\, bei schlechtem Wetter im Stadl.
 Für Speis und Trank wird bestens gesorgt.
  
 Vorverkauf bei Metzgerei Breitner\\, Martina Ihr Friseur\\, Raumausstattung Pauly und unter folgendem Link https\\":\\"//okticket.de/tickets-fonse-doppelhammer
  
 Sowie bei allen Heimspielen des SV Niederlauterbach
 Organisator   SV Niederlauterbach
LOCATION;CHARSET=UTF-8:Sportplatz Niederlauterbach (Openair)
UID:c61c40f71471a8372f259ee908c174c6@bc2113cb4af2c3a43fff9192b42c74c9
END:VEVENT
END:VCALENDAR