BEGIN:VCALENDAR
VERSION:1.0
PRODID:Open2CKalenderExportV11
BEGIN:VEVENT
DTSTAMP:20260108T084420Z
DTSTART:20260801T110000Z
DTEND:20260801T110000Z
CATEGORIES:Vereine
SUMMARY;CHARSET=UTF-8:Stockclub Wolnzach, Marktmeisterschaft
DESCRIPTION;CHARSET=UTF-8: | Organisator   Stock-Club Wolnzach | Kontakt   info@sc-Wolnzach.de
LOCATION;CHARSET=UTF-8:Vereinsanlage, Anton-Dost-Str. 9, Wolnzach
UID:12dbcd3bf99f6e3c61c2165f33bcb675-8e83880193e41591bf6d9c72a635c3fe
PRIORITY:3
END:VEVENT
BEGIN:VEVENT
DTSTAMP:20260112T122834Z
DTSTART:20260806T220000Z
DTEND:20260816T220000Z
CATEGORIES:Volksfeste
SUMMARY;CHARSET=UTF-8:76. Hallertauer Volksfest
DESCRIPTION;CHARSET=UTF-8: | Organisator   Markt Wolnzach
LOCATION;CHARSET=UTF-8:Volksfestplatz Wolnzach
UID:dafaa43f9e83ddfccc3643d9f5646f34-076ff93ef927fdf74a740e4af7e4fba3
PRIORITY:3
END:VEVENT
BEGIN:VEVENT
DTSTAMP:20260108T084147Z
DTSTART:20260816T060000Z
DTEND:20260816T060000Z
CATEGORIES:Vereine
SUMMARY;CHARSET=UTF-8:Stockclub Wolnzach, Volksfestturnier
DESCRIPTION;CHARSET=UTF-8: | Organisator   Stock-Club Wolnzach | Kontakt   info@sc-Wolnzach.de
LOCATION;CHARSET=UTF-8:Vereinsanlage, Anton-Dost-Str. 9, Wolnzach
UID:966495bc98a3f437600487332b252a71-ed9e7dc22b8576138ace6518ef43e627
PRIORITY:3
END:VEVENT
BEGIN:VEVENT
DTSTAMP:20251010T082230Z
DTSTART:20260822T160000Z
DTEND:20260822T200000Z
CATEGORIES:Vereine
SUMMARY;CHARSET=UTF-8:Burschen- & Madlverein Königsfeld, Bier-Fest
DESCRIPTION;CHARSET=UTF-8: | Organisator   Burschen- & Madlverein Königsfeld
LOCATION;CHARSET=UTF-8:Königsfeld Wandererhütte/Feuerwehr (je nach Wetterlage)
UID:139c3a925a3e6a6bac62526ffe7bb865-39023bf3289bbaa79ac5d9c7caeb6e8e
PRIORITY:3
END:VEVENT
END:VCALENDAR