BEGIN:VCALENDAR
VERSION:1.0
PRODID:Open2CKalenderExportV11
BEGIN:VEVENT
DTSTAMP:20251016T071908Z
DTSTART:20260705T150000Z
DTEND:20260705T170000Z
CATEGORIES:Konzerte
SUMMARY;CHARSET=UTF-8:Liederkranz Wolnzach, Sommerkonzert
DESCRIPTION;CHARSET=UTF-8: | Organisator   Liederkranz Wolnzach
LOCATION;CHARSET=UTF-8:Hallertau Gymnasium Wolnzach
UID:c1e17f5fdadbee421c853b663107129f-d1514637fce14df9665a6407f58e0cf9
PRIORITY:3
END:VEVENT
END:VCALENDAR