BEGIN:VCALENDAR
VERSION:1.0
PRODID:Open2CKalenderExportV11
BEGIN:VEVENT
DTSTAMP:20251210T152224Z
DTSTART:20261203T170000Z
DTEND:20261203T170000Z
CATEGORIES:Vereine
SUMMARY;CHARSET=UTF-8:KDFB Gebrontshausen, Adventfeier
DESCRIPTION;CHARSET=UTF-8:Andacht in Larsbach, anschl. Adventfeier im Gasthaus Waldinger in Larsbach | Organisator   KDFB Ge\nontshausen
LOCATION;CHARSET=UTF-8:Larsbach
UID:3596b3dce5986fe4f37084eab4853ff5-136a40825f7641d7a07bc72779b43300
PRIORITY:3
END:VEVENT
END:VCALENDAR