BEGIN:VCALENDAR
VERSION:1.0
PRODID:Open2CKalenderExportV11
BEGIN:VEVENT
DTSTAMP:20251016T071810Z
DTSTART:20261224T160000Z
DTEND:20261224T163000Z
CATEGORIES:Kirche
SUMMARY;CHARSET=UTF-8:Liederkranz Wolnzach, Weihnachtssingen auf dem Wolnzacher Friedhof
DESCRIPTION;CHARSET=UTF-8: | Organisator   Liederkranz Wolnzach
LOCATION;CHARSET=UTF-8:Friedhof Wolnzach
UID:90f25a6a72d957922043e20a1a45b94a-8733fc3771b4ffc83e8b2dae726322ab
PRIORITY:3
END:VEVENT
END:VCALENDAR