BEGIN:VCALENDAR
VERSION:1.0
PRODID:Open2CKalenderExportV11
BEGIN:VEVENT
DTSTAMP:20251127T140828Z
DTSTART:20260620T173000Z
DTEND:20260620T213000Z
CATEGORIES:Specials
SUMMARY;CHARSET=UTF-8:s'Theaterbrettl, Volkstanz
DESCRIPTION;CHARSET=UTF-8: | Organisator   s'Theater\nettl
LOCATION;CHARSET=UTF-8:Volksfesthalle (Hopfenstraße)
UID:90e75ad13f5e0f595667df27d29abfd3-541d8b8eb8522b3f466e89b64cd025e8
PRIORITY:3
END:VEVENT
END:VCALENDAR