BEGIN:VCALENDAR
VERSION:1.0
PRODID:Open2CKalenderExportV11
BEGIN:VEVENT
DTSTAMP:20251117T084243Z
DTSTART:20260525T220000Z
DTEND:20260529T220000Z
CATEGORIES:Kinder
SUMMARY;CHARSET=UTF-8:Kolpingsfamilie Gosseltshausen, Pfingstzeltlager der Kolpingjugend
DESCRIPTION;CHARSET=UTF-8: | Organisator   Kolpingsfamilie Gosseltshausen
LOCATION;CHARSET=UTF-8:Zeltlager in Ingolstadt
UID:c01930e73b8d8054571ba5773063685a-08a6e805f935700594ecdc5c3a737180
PRIORITY:3
END:VEVENT
END:VCALENDAR