BEGIN:VCALENDAR
VERSION:1.0
PRODID:Open2CKalenderExportV11
BEGIN:VEVENT
DTSTAMP:20251030T145842Z
DTSTART:20261213T160000Z
DTEND:20261213T160000Z
CATEGORIES:Konzerte
SUMMARY;CHARSET=UTF-8:Liederkranz Wolnzach, Adventssingen (verschiedene Gesangs- und Instrumentalgruppen)
DESCRIPTION;CHARSET=UTF-8: | Organisator   Liederkranz Wolnzach
LOCATION;CHARSET=UTF-8:Kath. Pfarrkirche St. Laurentius Wolnzach
UID:8e260260c121cf2fb6e3e972d5c450be-b17b93c89955aa8c5cef6c0de7d29780
PRIORITY:3
END:VEVENT
END:VCALENDAR