BEGIN:VCALENDAR
VERSION:1.0
PRODID:Open2CKalenderExportV11
BEGIN:VEVENT
DTSTAMP:20260423T072744Z
DTSTART:20260504T163000Z
DTEND:20260504T163000Z
CATEGORIES:Vereine
SUMMARY;CHARSET=UTF-8:KDFB Wolnzach: Maiandacht
DESCRIPTION;CHARSET=UTF-8:Mainandacht im Freien, mit kleinem Umtrunk | Bei Regen feiern wir die Maiandacht in der Pfarrkirche. | Organisator   Kath. Frauenbund Wolnzach
LOCATION;CHARSET=UTF-8:Hammerschmidkapelle an der Jägerstraße
UID:83de34a33b270613b779695e69e1ee7a-dd6f82c127aad937ac40f2e3ebe284b7
PRIORITY:3
END:VEVENT
END:VCALENDAR