BEGIN:VCALENDAR
VERSION:1.0
PRODID:Open2CKalenderExportV11
BEGIN:VEVENT
DTSTAMP:20260302T075352Z
DTSTART:20260423T093000Z
DTEND:20260423T093000Z
CATEGORIES:Vereine
SUMMARY;CHARSET=UTF-8:VdK Wolnzach, Halbtagesausflug nach Bissingen und Harburg
DESCRIPTION;CHARSET=UTF-8:Halbtagesausflug nach Bissingen und Harburg mit Besichtigung der Molkerei Gropper. | Harburg liegt an der Romantischen Straße im Tal der Wörnitz. | Organisator   VdK Wolnzach
LOCATION;CHARSET=UTF-8:Bissingen und Harburg
UID:f7096bf4135f64b7b83da63f72b66ead-4b7fd993677e16e68242df8e30bc4ec7
PRIORITY:3
END:VEVENT
BEGIN:VEVENT
DTSTAMP:20251218T155119Z
DTSTART:20260429T110000Z
DTEND:20260429T150000Z
CATEGORIES:Senioren
SUMMARY;CHARSET=UTF-8:KDFB Wolnzach, Seniorenausflug nach Rain am Lech
DESCRIPTION;CHARSET=UTF-8: | Organisator   Kath. Frauenbund Wolnzach
LOCATION;CHARSET=UTF-8:Abfahrt am Deutschen Hopfenmuseum
UID:bae72d45cf37d83faff78754bca91872-8a987e18a1205a4b3ce69593ac791836
PRIORITY:3
END:VEVENT
BEGIN:VEVENT
DTSTAMP:20260401T124849Z
DTSTART:20260430T150000Z
DTEND:20260430T150000Z
CATEGORIES:Vereine
SUMMARY;CHARSET=UTF-8:Feuerwehr & Dorfgemeinschaft Eschelbach: Maifeier
DESCRIPTION;CHARSET=UTF-8:Maifeier am 30. April ab 17 Uhr | Organisator   Feuerwehr & Dorfgemeinschaft Eschelbach
LOCATION;CHARSET=UTF-8:Dorfplatz Eschelbach
UID:62658cd5982e84afc01ba94b75b70342-85c2ffc5c2870ef03da4cc2a1f8a6451
PRIORITY:3
END:VEVENT
END:VCALENDAR