BEGIN:VCALENDAR
VERSION:1.0
PRODID:Open2CKalenderExportV11
BEGIN:VEVENT
DTSTAMP:20251010T075228Z
DTSTART:20260523T070000Z
DTEND:20260523T130000Z
CATEGORIES:Vereine
SUMMARY;CHARSET=UTF-8:SV Geroldshausen, Fußball Jugendturnier
DESCRIPTION;CHARSET=UTF-8: | Organisator   SV Geroldshausen
LOCATION;CHARSET=UTF-8:Sportpark 1 Geroldshausen
UID:6f0bf77ea007c8034efef668a522123e-6c303ed93a4676e926d793498e17d674
PRIORITY:3
END:VEVENT
END:VCALENDAR