BEGIN:VCALENDAR
VERSION:1.0
PRODID:Open2CKalenderExportV11
BEGIN:VEVENT
DTSTAMP:20260401T125944Z
DTSTART:20260501T080000Z
DTEND:20260501T080000Z
CATEGORIES:Vereine
SUMMARY;CHARSET=UTF-8:Burschen- & Madlverein Königsfeld, Maibaumaufstellen
DESCRIPTION;CHARSET=UTF-8:09:30 Uhr Frühschoppen mit Würstl | 10:00 Uhr Beginn Maibaumaufstellen | 14:00 Uhr Kaffee und Kjchen, Schnittchen | 17:00 Uhr Abendessen | Organisator   Burschen- & Madlverein Königsfeld
LOCATION;CHARSET=UTF-8:Feuerwehr Königsfeld
UID:bf2e2868179ae2347908365b3c03c2d1-69be5b16b770114b38c1cd404e0ac79d
PRIORITY:3
END:VEVENT
END:VCALENDAR