BEGIN:VCALENDAR
VERSION:1.0
PRODID:Open2CKalenderExportV11
BEGIN:VEVENT
DTSTAMP:20260126T084357Z
DTSTART:20261127T230000Z
DTEND:20261128T230000Z
CATEGORIES:Ausstellungen
SUMMARY;CHARSET=UTF-8:Kunst- und Hobbykreis Wolnzach e.V.: Adventsausstellung
DESCRIPTION;CHARSET=UTF-8:Ausstellungszeiten voraussichtlich: | Samstag 15.00 bis 18.00 Uhr | Sonntag 12.00 bis 18.00 Uhr | Organisator   Kunst- und Hobbykreis Wolnzach e. V. | Kontakt   Gerti Wetterich
LOCATION;CHARSET=UTF-8:Rathauskeller Wolnzach
UID:c6da5276007b8e8c104e8041956c986e-a33d574293db4f5ad19ae64a67647736
PRIORITY:3
END:VEVENT
END:VCALENDAR