BEGIN:VCALENDAR
VERSION:1.0
PRODID:Open2CKalenderExportV11
BEGIN:VEVENT
DTSTAMP:20260421T093128Z
DTSTART:20260725T170000Z
DTEND:20260725T170000Z
CATEGORIES:Specials
SUMMARY;CHARSET=UTF-8:SV Niederlauterbach, Comedy & Kabarett "Fonse Doppelhammer" - das neue Programm
DESCRIPTION;CHARSET=UTF-8:Einlass ab 18 Uhr,  Beginn 19 Uhr |   | Fonse Doppelhammer....zum Jammern glangt´s no ned. Am 25. Juli am Sportplatz in Niederlauterbach, bei schlechtem Wetter im Stadl. | Für Speis und Trank wird bestens gesorgt. |   | Vorverkauf bei Metzgerei Breitner, Martina Ihr Friseur, Raumausstattung Pauly und unter folgendem Link https://okticket.de/tickets-fonse-doppelhammer |   | Sowie bei allen Heimspielen des SV Niederlauterbach | Organisator   SV Niederlauterbach
LOCATION;CHARSET=UTF-8:Sportplatz Niederlauterbach (Openair)
UID:b0af3ff0dcbd829c3b377b03927bebd0-288a40d5f3e454d1a8cc89bca0029eae
PRIORITY:3
END:VEVENT
END:VCALENDAR