BEGIN:VCALENDAR
VERSION:1.0
PRODID:Open2CKalenderExportV11
BEGIN:VEVENT
DTSTAMP:20251016T072129Z
DTSTART:20261114T230000Z
DTEND:20261114T230000Z
CATEGORIES:Vereine
SUMMARY;CHARSET=UTF-8:Liederkranz Wolnzach, Gedenken zum Volkstrauertag
DESCRIPTION;CHARSET=UTF-8: | Organisator   Liederkranz Wolnzach und Markt Wiolnzach
LOCATION;CHARSET=UTF-8:Kriegerdenkmal
UID:b7cee79d13c0e10b214e45a0e0eb3d8e-d1bd8c2805f712edab966fc8828251fb
PRIORITY:3
END:VEVENT

END:VCALENDAR
