BEGIN:VCALENDAR
VERSION:1.0
PRODID:Open2CKalenderExportV11
BEGIN:VEVENT
DTSTAMP:20251010T075348Z
DTSTART:20260524T080000Z
DTEND:20260524T200000Z
CATEGORIES:Vereine
SUMMARY;CHARSET=UTF-8:SV Geroldshausen, Gartenfest
DESCRIPTION;CHARSET=UTF-8: | Organisator   SV Geroldshausen
LOCATION;CHARSET=UTF-8:Sportpark 1 Geroldshausen
UID:5c0b890cd31d70d3a979041327e923c4-493ceeaf886153577b955f8462d120d5
PRIORITY:3
END:VEVENT

END:VCALENDAR
